BEGIN:VCALENDAR
VERSION:2.0
PRODID:-//Lucy Depp Park - ECPv6.15.20//NONSGML v1.0//EN
CALSCALE:GREGORIAN
METHOD:PUBLISH
X-WR-CALNAME:Lucy Depp Park
X-ORIGINAL-URL:http://lucydepppark.com
X-WR-CALDESC:Events for Lucy Depp Park
REFRESH-INTERVAL;VALUE=DURATION:PT1H
X-Robots-Tag:noindex
X-PUBLISHED-TTL:PT1H
BEGIN:VTIMEZONE
TZID:America/New_York
BEGIN:DAYLIGHT
TZOFFSETFROM:-0500
TZOFFSETTO:-0400
TZNAME:EDT
DTSTART:20210314T070000
END:DAYLIGHT
BEGIN:STANDARD
TZOFFSETFROM:-0400
TZOFFSETTO:-0500
TZNAME:EST
DTSTART:20211107T060000
END:STANDARD
BEGIN:DAYLIGHT
TZOFFSETFROM:-0500
TZOFFSETTO:-0400
TZNAME:EDT
DTSTART:20220313T070000
END:DAYLIGHT
BEGIN:STANDARD
TZOFFSETFROM:-0400
TZOFFSETTO:-0500
TZNAME:EST
DTSTART:20221106T060000
END:STANDARD
BEGIN:DAYLIGHT
TZOFFSETFROM:-0500
TZOFFSETTO:-0400
TZNAME:EDT
DTSTART:20230312T070000
END:DAYLIGHT
BEGIN:STANDARD
TZOFFSETFROM:-0400
TZOFFSETTO:-0500
TZNAME:EST
DTSTART:20231105T060000
END:STANDARD
END:VTIMEZONE
BEGIN:VEVENT
DTSTART;TZID=America/New_York:20221109T130000
DTEND;TZID=America/New_York:20221109T140000
DTSTAMP:20260420T034517
CREATED:20221005T190217Z
LAST-MODIFIED:20221005T190217Z
UID:495-1667998800-1668002400@lucydepppark.com
SUMMARY:Civic Association Meeting
DESCRIPTION:Our monthly Civic Association meeting! The plan for November is to meet in the barn (which doesn’t have heat)\, so dress accordingly. If temperatures are too cold Dawn said we’d move the meeting to the house.
URL:http://lucydepppark.com/event/civic-association-meeting-5/
LOCATION:Lucy Depp Park Barn\, 6381 Harriott Rd\, Powell\, OH\, 43065\, United States
ORGANIZER;CN="LDP Civic Association":MAILTO:hello@lucydepppark.com
END:VEVENT
END:VCALENDAR