BEGIN:VCALENDAR
VERSION:2.0
PRODID:-//Lucy Depp Park - ECPv6.15.20//NONSGML v1.0//EN
CALSCALE:GREGORIAN
METHOD:PUBLISH
X-WR-CALNAME:Lucy Depp Park
X-ORIGINAL-URL:http://lucydepppark.com
X-WR-CALDESC:Events for Lucy Depp Park
REFRESH-INTERVAL;VALUE=DURATION:PT1H
X-Robots-Tag:noindex
X-PUBLISHED-TTL:PT1H
BEGIN:VTIMEZONE
TZID:America/New_York
BEGIN:DAYLIGHT
TZOFFSETFROM:-0500
TZOFFSETTO:-0400
TZNAME:EDT
DTSTART:20180311T070000
END:DAYLIGHT
BEGIN:STANDARD
TZOFFSETFROM:-0400
TZOFFSETTO:-0500
TZNAME:EST
DTSTART:20181104T060000
END:STANDARD
BEGIN:DAYLIGHT
TZOFFSETFROM:-0500
TZOFFSETTO:-0400
TZNAME:EDT
DTSTART:20190310T070000
END:DAYLIGHT
BEGIN:STANDARD
TZOFFSETFROM:-0400
TZOFFSETTO:-0500
TZNAME:EST
DTSTART:20191103T060000
END:STANDARD
BEGIN:DAYLIGHT
TZOFFSETFROM:-0500
TZOFFSETTO:-0400
TZNAME:EDT
DTSTART:20200308T070000
END:DAYLIGHT
BEGIN:STANDARD
TZOFFSETFROM:-0400
TZOFFSETTO:-0500
TZNAME:EST
DTSTART:20201101T060000
END:STANDARD
END:VTIMEZONE
BEGIN:VEVENT
DTSTART;TZID=America/New_York:20190724T180000
DTEND;TZID=America/New_York:20190724T190000
DTSTAMP:20260419T231516
CREATED:20190717T153957Z
LAST-MODIFIED:20190717T155220Z
UID:108-1563991200-1563994800@lucydepppark.com
SUMMARY:Civic Association Meeting
DESCRIPTION:Our monthly Civic Association meeting will be held this month at the township community building. Feel free to stay for trustee’s meeting at 7.
URL:http://lucydepppark.com/event/civic-association-meeting/
LOCATION:Concord Township Community Building\, 6385 Home Rd\, Delaware\, OH\, 43015\, United States
ORGANIZER;CN="LDP Civic Association":MAILTO:hello@lucydepppark.com
END:VEVENT
END:VCALENDAR