BEGIN:VCALENDAR
VERSION:2.0
PRODID:-//Lucy Depp Park - ECPv6.15.20//NONSGML v1.0//EN
CALSCALE:GREGORIAN
METHOD:PUBLISH
X-ORIGINAL-URL:http://lucydepppark.com
X-WR-CALDESC:Events for Lucy Depp Park
REFRESH-INTERVAL;VALUE=DURATION:PT1H
X-Robots-Tag:noindex
X-PUBLISHED-TTL:PT1H
BEGIN:VTIMEZONE
TZID:America/New_York
BEGIN:DAYLIGHT
TZOFFSETFROM:-0500
TZOFFSETTO:-0400
TZNAME:EDT
DTSTART:20220313T070000
END:DAYLIGHT
BEGIN:STANDARD
TZOFFSETFROM:-0400
TZOFFSETTO:-0500
TZNAME:EST
DTSTART:20221106T060000
END:STANDARD
BEGIN:DAYLIGHT
TZOFFSETFROM:-0500
TZOFFSETTO:-0400
TZNAME:EDT
DTSTART:20230312T070000
END:DAYLIGHT
BEGIN:STANDARD
TZOFFSETFROM:-0400
TZOFFSETTO:-0500
TZNAME:EST
DTSTART:20231105T060000
END:STANDARD
BEGIN:DAYLIGHT
TZOFFSETFROM:-0500
TZOFFSETTO:-0400
TZNAME:EDT
DTSTART:20240310T070000
END:DAYLIGHT
BEGIN:STANDARD
TZOFFSETFROM:-0400
TZOFFSETTO:-0500
TZNAME:EST
DTSTART:20241103T060000
END:STANDARD
BEGIN:DAYLIGHT
TZOFFSETFROM:-0500
TZOFFSETTO:-0400
TZNAME:EDT
DTSTART:20250309T070000
END:DAYLIGHT
BEGIN:STANDARD
TZOFFSETFROM:-0400
TZOFFSETTO:-0500
TZNAME:EST
DTSTART:20251102T060000
END:STANDARD
END:VTIMEZONE
BEGIN:VEVENT
DTSTART;TZID=America/New_York:20230608T180000
DTEND;TZID=America/New_York:20230608T180000
DTSTAMP:20260420T021818
CREATED:20230510T175706Z
LAST-MODIFIED:20230510T175706Z
UID:502-1686247200-1686247200@lucydepppark.com
SUMMARY:Civic Association Meeting + Smores & Socialize
DESCRIPTION:Our next monthly Civic Association meeting and smores & socialize. The meeting will be from 6-7 and then we will have a fire and smores after. We’d love all the residents and friends of LDP to come socialize with your neighbors! BYOB. Feel free to come to both the meeting and the smores & socialize!
URL:http://lucydepppark.com/event/civic-association-meeting-smores-socialize/
LOCATION:Lucy Depp Park Barn\, 6381 Harriott Rd\, Powell\, OH\, 43065\, United States
ORGANIZER;CN="LDP Civic Association":MAILTO:hello@lucydepppark.com
END:VEVENT
BEGIN:VEVENT
DTSTART;TZID=America/New_York:20230611T140000
DTEND;TZID=America/New_York:20230611T160000
DTSTAMP:20260420T021818
CREATED:20230510T180028Z
LAST-MODIFIED:20230510T180028Z
UID:504-1686492000-1686499200@lucydepppark.com
SUMMARY:Delaware County Historical Society LDP Cemetery Tour
DESCRIPTION:Delaware County Historical Society has a scheduled tour of the Lucy Depp Park Cemetery. Our own Michael Hamilton will host. Parking is at the Adaptive Sports Connection. (Rain date is following Sunday).
URL:http://lucydepppark.com/event/delaware-county-historical-society-ldp-cemetery-tour/
LOCATION:The Adaptive Sports Connection\, 6000 Harriott Rd\, Powell\, OH\, 43065\, United States
ORGANIZER;CN="LDP Civic Association":MAILTO:hello@lucydepppark.com
END:VEVENT
BEGIN:VEVENT
DTSTART;TZID=America/New_York:20230622T183000
DTEND;TZID=America/New_York:20230622T203000
DTSTAMP:20260420T021818
CREATED:20230510T180531Z
LAST-MODIFIED:20230510T180531Z
UID:507-1687458600-1687465800@lucydepppark.com
SUMMARY:Music in The Village & LDP History
DESCRIPTION:Music in the Village\, Monahan Park in Shawnee Hills. Michael Hamilton will present a brief history of Lucy Depp Park before the band takes the stage. The band is Deuce & A Quarter\, who were finalists in the 2023 International Blues Challenge.
URL:http://lucydepppark.com/event/music-in-the-village-ldp-history/
LOCATION:Monahan Veterans Memorial Park\, 40 W Reindeer Dr\, Shawnee Hills\, OH\, 43065\, United States
ORGANIZER;CN="LDP Civic Association":MAILTO:hello@lucydepppark.com
END:VEVENT
BEGIN:VEVENT
DTSTART;TZID=America/New_York:20230704T193000
DTEND;TZID=America/New_York:20230704T193000
DTSTAMP:20260420T021818
CREATED:20230510T180831Z
LAST-MODIFIED:20230510T180831Z
UID:512-1688499000-1688499000@lucydepppark.com
SUMMARY:4th of July Fireworks
DESCRIPTION:Come join us to celebrate America’s birthday! Fireworks presented by Byron Gunter and Buckeye Entertainment. Bring a chair and camp out by the barn. We’ll set them off just after it gets dark.
URL:http://lucydepppark.com/event/4th-of-july-fireworks/
LOCATION:Lucy Depp Park Barn\, 6381 Harriott Rd\, Powell\, OH\, 43065\, United States
ORGANIZER;CN="LDP Civic Association":MAILTO:hello@lucydepppark.com
END:VEVENT
BEGIN:VEVENT
DTSTART;TZID=America/New_York:20240314T180000
DTEND;TZID=America/New_York:20240314T190000
DTSTAMP:20260420T021818
CREATED:20240229T172728Z
LAST-MODIFIED:20240229T172728Z
UID:524-1710439200-1710442800@lucydepppark.com
SUMMARY:Civic Association Meeting
DESCRIPTION:Our monthly Civic Association meeting will be held at the Concord Township Community building. If there is anything we need to address with the township they will have their monthly meeting right after ours at 7pm. See you there!
URL:http://lucydepppark.com/event/civic-association-meeting-7/
LOCATION:Concord Township Community Building\, 6385 Home Rd\, Delaware\, OH\, 43015\, United States
ORGANIZER;CN="LDP Civic Association":MAILTO:hello@lucydepppark.com
END:VEVENT
END:VCALENDAR